BEGIN:VCALENDAR
VERSION:2.0
PRODID:-//LES DUPONT/D  - ECPv6.11.2.1//NONSGML v1.0//EN
CALSCALE:GREGORIAN
METHOD:PUBLISH
X-WR-CALNAME:LES DUPONT/D 
X-ORIGINAL-URL:https://www.lesdupontd.com
X-WR-CALDESC:Évènements pour LES DUPONT/D 
REFRESH-INTERVAL;VALUE=DURATION:PT1H
X-Robots-Tag:noindex
X-PUBLISHED-TTL:PT1H
BEGIN:VTIMEZONE
TZID:Europe/Paris
BEGIN:DAYLIGHT
TZOFFSETFROM:+0100
TZOFFSETTO:+0200
TZNAME:CEST
DTSTART:20190331T010000
END:DAYLIGHT
BEGIN:STANDARD
TZOFFSETFROM:+0200
TZOFFSETTO:+0100
TZNAME:CET
DTSTART:20191027T010000
END:STANDARD
BEGIN:DAYLIGHT
TZOFFSETFROM:+0100
TZOFFSETTO:+0200
TZNAME:CEST
DTSTART:20200329T010000
END:DAYLIGHT
BEGIN:STANDARD
TZOFFSETFROM:+0200
TZOFFSETTO:+0100
TZNAME:CET
DTSTART:20201025T010000
END:STANDARD
BEGIN:DAYLIGHT
TZOFFSETFROM:+0100
TZOFFSETTO:+0200
TZNAME:CEST
DTSTART:20210328T010000
END:DAYLIGHT
BEGIN:STANDARD
TZOFFSETFROM:+0200
TZOFFSETTO:+0100
TZNAME:CET
DTSTART:20211031T010000
END:STANDARD
BEGIN:DAYLIGHT
TZOFFSETFROM:+0100
TZOFFSETTO:+0200
TZNAME:CEST
DTSTART:20220327T010000
END:DAYLIGHT
BEGIN:STANDARD
TZOFFSETFROM:+0200
TZOFFSETTO:+0100
TZNAME:CET
DTSTART:20221030T010000
END:STANDARD
BEGIN:DAYLIGHT
TZOFFSETFROM:+0100
TZOFFSETTO:+0200
TZNAME:CEST
DTSTART:20230326T010000
END:DAYLIGHT
BEGIN:STANDARD
TZOFFSETFROM:+0200
TZOFFSETTO:+0100
TZNAME:CET
DTSTART:20231029T010000
END:STANDARD
BEGIN:DAYLIGHT
TZOFFSETFROM:+0100
TZOFFSETTO:+0200
TZNAME:CEST
DTSTART:20240331T010000
END:DAYLIGHT
BEGIN:STANDARD
TZOFFSETFROM:+0200
TZOFFSETTO:+0100
TZNAME:CET
DTSTART:20241027T010000
END:STANDARD
BEGIN:DAYLIGHT
TZOFFSETFROM:+0100
TZOFFSETTO:+0200
TZNAME:CEST
DTSTART:20250330T010000
END:DAYLIGHT
BEGIN:STANDARD
TZOFFSETFROM:+0200
TZOFFSETTO:+0100
TZNAME:CET
DTSTART:20251026T010000
END:STANDARD
END:VTIMEZONE
BEGIN:VEVENT
DTSTART;TZID=Europe/Paris:20251120T093000
DTEND;TZID=Europe/Paris:20251122T153000
DTSTAMP:20260425T184504
CREATED:20250503T092011Z
LAST-MODIFIED:20250503T113636Z
UID:4785-1763631000-1763825400@www.lesdupontd.com
SUMMARY:A [tendre] à la Maison des Arts de Saint Herblain
DESCRIPTION:Programmation  du 20 au 22 novembre par  l’ONYX\, saint Herblain (représentations hors les murs à la maison des arts)\nJeudi 20 et vendredi 21 novembre: scolaires 9h30\,10h45\, 14h30\nsamedi 22 novembre: séance tout public à partir de 2 ans : 10h30
URL:https://www.lesdupontd.com/event/a-tendre-a-la-maison-des-arts-de-saint-herblain/
LOCATION:La maison des arts\, Saint Herblain\, France
CATEGORIES:spectacle
END:VEVENT
BEGIN:VEVENT
DTSTART;VALUE=DATE:20250927
DTEND;VALUE=DATE:20250928
DTSTAMP:20260425T184504
CREATED:20250503T093126Z
LAST-MODIFIED:20250503T093306Z
UID:4789-1758931200-1759017599@www.lesdupontd.com
SUMMARY:L'enfant phare
DESCRIPTION:L’enfant phare à la médiathèque de Saint-Philbert-de-Grand-Lieu dans le cadre de la Fête du Livre. \nHoraire et réservation à venir.
URL:https://www.lesdupontd.com/event/lenfant-phare-3/
LOCATION:Médiathèque de Saint-Philbert-de-Grand-Lieu\, Pl. André Malraux\, Saint-Philbert-de-Grand-Lieu\, 44310\, France
CATEGORIES:spectacle
END:VEVENT
BEGIN:VEVENT
DTSTART;TZID=Europe/Paris:20240120T173000
DTEND;TZID=Europe/Paris:20240120T190000
DTSTAMP:20260425T184504
CREATED:20240113T112022Z
LAST-MODIFIED:20240113T112022Z
UID:3835-1705771800-1705777200@www.lesdupontd.com
SUMMARY:Eaux souterraines
DESCRIPTION:SEANCE SUPPLEMENTAIRE à 17h30 de Eaux souterraines à Théâtre ONYX lors du Festival Trajectoires (autres séances à 15h et 20h sur liste d’attente)\n\nLors d’une écoute au casque\, Marion Uguen (texte et voix) et Anne- Laure Lejosne (création sonore) proposeront une performance intimiste pour public allongé. Un voyage intérieur\, une plongée en eaux profondes.
URL:https://www.lesdupontd.com/event/eaux-souterraines/
LOCATION:L’Onyx\, 1 Place Océane\, Saint-Herblain\, 44800\, France
CATEGORIES:spectacle
END:VEVENT
BEGIN:VEVENT
DTSTART;TZID=Europe/Paris:20240118T130000
DTEND;TZID=Europe/Paris:20240118T190000
DTSTAMP:20260425T184504
CREATED:20240113T112649Z
LAST-MODIFIED:20240113T112649Z
UID:3839-1705582800-1705604400@www.lesdupontd.com
SUMMARY:L'enfant phare
DESCRIPTION:Jeudi 18 janvier à Honolulu Nantes: Tout comme les élèves de 6ème de Bouguenais en décembre dernier\, les professionnel.les sont conviés à la reprise de l’enfant phare en version tout terrain pour 2 présentations professionnelles à 13h et 18h.\nSur réservation : lesdupontd@live.
URL:https://www.lesdupontd.com/event/lenfant-phare-2/
LOCATION:Honolulu\, 9 rue Sanlecque\, Nantes\, 44000\, France
END:VEVENT
BEGIN:VEVENT
DTSTART;VALUE=DATE:20200913
DTEND;VALUE=DATE:20200914
DTSTAMP:20260425T184504
CREATED:20200204T143147Z
LAST-MODIFIED:20200416T090539Z
UID:735-1599955200-1600041599@www.lesdupontd.com
SUMMARY:Un jardin à la française 13/09
DESCRIPTION:Un jardin à la française est une installation-performance collaborative dans l’espace public qui invite les habitants et les associations locales à participer notamment par la mise à disposition de vêtements de récupération. \n\n \n\nSoutiens Un jardin à la française :\nLa Ville de Nantes dans le cadre des Créations partagées\, le Centre Chorégraphique National de Nantes\, Bora Bora Productions.\nPartenariats : la maison de Quartier Madeleine Champ-de-Mars\, l’équipe de quartier Hauts Pavés-St-Félix\, Re-act\, Ecopôle et Accoord Centre Socio-culturel Hauts-Pavés/St Félix\, l’épicerie d’ADDA\, la Cocotte Solidaire\, Les ateliers de la Ville en Bois.
URL:https://www.lesdupontd.com/event/un-jardin-a-la-francaise-14-06/
LOCATION:Place Viarme\, Nantes\, France
CATEGORIES:spectacle
END:VEVENT
BEGIN:VEVENT
DTSTART;TZID=Europe/Paris:20200215T110000
DTEND;TZID=Europe/Paris:20200215T120000
DTSTAMP:20260425T184504
CREATED:20200127T174059Z
LAST-MODIFIED:20200130T100210Z
UID:705-1581764400-1581768000@www.lesdupontd.com
SUMMARY:Un jardin à la française à Nantes 15/02
DESCRIPTION:RENCONTRE-COLLECTE AUTOUR D’UN VERRE\nle samedi 15 février de 11h à 12h à la Cocotte Solidaire (île de Versailles)\nsuivie d’un repas partagé (prix libre sur réservation) \nUn jardin à la française est une installation-performance collaborative dans l’espace public qui invite les habitants et les associations locales à participer notamment par la mise à disposition de vêtements de récupération. \nVous pouvez également remplir notre formulaire de participation ici : https://forms.gle/uiLDwDuTsxVmqQ4g9
URL:https://www.lesdupontd.com/event/un-jardin-a-la-francaise-a-nantes-15-02/
LOCATION:Île de Versailles\, Nantes\, France
END:VEVENT
BEGIN:VEVENT
DTSTART;TZID=Europe/Paris:20200213T180000
DTEND;TZID=Europe/Paris:20200213T200000
DTSTAMP:20260425T184504
CREATED:20200127T173404Z
LAST-MODIFIED:20200130T100237Z
UID:700-1581616800-1581624000@www.lesdupontd.com
SUMMARY:Un jardin à la française à Nantes 13/02
DESCRIPTION:RENCONTRE-COLLECTE AUTOUR D’UN VERRE\nle jeudi 13 février à 18h à l’ADDA (18 rue de Savenay ) \nUn jardin à la française est une installation-performance collaborative dans l’espace public qui invite les habitants et les associations locales à participer notamment par la mise à disposition de vêtements de récupération. \nVous pouvez également remplir notre formulaire de participation ici : https://forms.gle/uiLDwDuTsxVmqQ4g9
URL:https://www.lesdupontd.com/event/700/
LOCATION:ADDA\, 18 Rue de Savenay\, Nantes\, France
END:VEVENT
BEGIN:VEVENT
DTSTART;TZID=Europe/Paris:20200212T100000
DTEND;TZID=Europe/Paris:20200212T183000
DTSTAMP:20260425T184504
CREATED:20200129T181341Z
LAST-MODIFIED:20200130T100303Z
UID:718-1581501600-1581532200@www.lesdupontd.com
SUMMARY:Un jardin à la française\, collecte de vêtements 12/02
DESCRIPTION:COLLECTE DE VÊTEMENTS\nle 12 février de 10h à 13h et de 15h à 18h30 à l”accueil de loisirs Accoord\,  39 rue Félix Thomas. \nUn jardin à la française est une installation-performance collaborative dans l’espace public qui invite les habitants et les associations locales à participer notamment par la mise à disposition de vêtements de récupération. \nVous pouvez également remplir notre formulaire de participation ici : https://forms.gle/uiLDwDuTsxVmqQ4g9
URL:https://www.lesdupontd.com/event/un-jardin-a-la-francaise-collecte-de-vetements-12-02-2/
LOCATION:Accueil de loisirs Accoord\, 39 rue Félix Thomas\, Nantes\, France
CATEGORIES:Collecte
END:VEVENT
BEGIN:VEVENT
DTSTART;TZID=Europe/Paris:20200212T100000
DTEND;TZID=Europe/Paris:20200212T183000
DTSTAMP:20260425T184504
CREATED:20200129T180827Z
LAST-MODIFIED:20200130T100337Z
UID:715-1581501600-1581532200@www.lesdupontd.com
SUMMARY:Un jardin à la française\, collecte de vêtements 12/02
DESCRIPTION:COLLECTE DE VÊTEMENTS\nle mercredi 12 février de 10h à 13h et de 15h à 18h30 à l’accueil de loisirs Accoord au Martray\, 8 allée Maud MannonI \nUn jardin à la française est une installation-performance collaborative dans l’espace public qui invite les habitants et les associations locales à participer notamment par la mise à disposition de vêtements de récupération. \n Vous pouvez également remplir notre formulaire de participation ici : https://forms.gle/uiLDwDuTsxVmqQ4g9
URL:https://www.lesdupontd.com/event/un-jardin-a-la-francaise-collecte-de-vetements-12-02/
LOCATION:Accueil de loisirs Accoord au Martray\, 8 allée Maud MannonI\, Nantes\, France
CATEGORIES:Collecte
END:VEVENT
BEGIN:VEVENT
DTSTART;TZID=Europe/Paris:20200211T160000
DTEND;TZID=Europe/Paris:20200211T180000
DTSTAMP:20260425T184504
CREATED:20200129T180322Z
LAST-MODIFIED:20200130T100426Z
UID:713-1581436800-1581444000@www.lesdupontd.com
SUMMARY:Un jardin à la française\, collecte de vêtements 11/02
DESCRIPTION:COLLECTE DE VÊTEMENTS\nle 11 février de 16h à 18h à la Bulle d’R\, Centre Socio Culturel Hauts-Pavés\, 9 rue du trépied \nUn jardin à la française est une installation-performance collaborative dans l’espace public qui invite les habitants et les associations locales à participer notamment par la mise à disposition de vêtements de récupération. \nVous pouvez également remplir notre formulaire de participation ici : https://forms.gle/uiLDwDuTsxVmqQ4g9
URL:https://www.lesdupontd.com/event/un-jardin-a-la-francaise-collecte-de-vetements-11-02/
LOCATION:La Bulle d’R\, 9 Rue du trépied\, Nantes\, France
CATEGORIES:Collecte
END:VEVENT
BEGIN:VEVENT
DTSTART;TZID=Europe/Paris:20200210T140000
DTEND;TZID=Europe/Paris:20200210T160000
DTSTAMP:20260425T184504
CREATED:20200129T180016Z
LAST-MODIFIED:20200129T180016Z
UID:710-1581343200-1581350400@www.lesdupontd.com
SUMMARY:Un jardin à la française\, collecte de vêtements 10/02
DESCRIPTION:COLLECTE DE VÊTEMENTS\nle 10 février de 14h à 16h à la Bulle d’R\, Centre Socio Culturel Hauts-Pavés\, 9 rue du trépied \nUn jardin à la française est une installation-performance collaborative dans l’espace public qui invite les habitants et les associations locales à participer notamment par la mise à disposition de vêtements de récupération.
URL:https://www.lesdupontd.com/event/un-jardin-a-la-francaise-collecte-de-vetements-10-02/
LOCATION:La Bulle d’R\, 9 Rue du trépied\, Nantes\, France
CATEGORIES:Collecte
END:VEVENT
BEGIN:VEVENT
DTSTART;TZID=Europe/Paris:20200129T080000
DTEND;TZID=Europe/Paris:20200129T170000
DTSTAMP:20260425T184504
CREATED:20200129T182500Z
LAST-MODIFIED:20200129T182500Z
UID:726-1580284800-1580317200@www.lesdupontd.com
SUMMARY:Un jardin à la française\, collecte de vêtements 14/02
DESCRIPTION:COLLECTE DE VÊTEMENTS\nle vendredi 14 février de 16h à 18h30 à la ludothèque Jeux de mômes\, 42 bis rue des hauts pavés \nUn jardin à la française est une installation-performance collaborative dans l’espace public qui invite les habitants et les associations locales à participer notamment par la mise à disposition de vêtements de récupération.
URL:https://www.lesdupontd.com/event/un-jardin-a-la-francaise-collecte-de-vetements-14-02-2/
LOCATION:Ludothèque  Jeux de mômes\, 42bis rue des hauts pavés\, Nantes\, France
CATEGORIES:Collecte
END:VEVENT
BEGIN:VEVENT
DTSTART;TZID=Europe/Paris:20200129T080000
DTEND;TZID=Europe/Paris:20200129T170000
DTSTAMP:20260425T184504
CREATED:20200129T182159Z
LAST-MODIFIED:20200129T182159Z
UID:723-1580284800-1580317200@www.lesdupontd.com
SUMMARY:Un jardin à la française\, collecte de vêtements 14/02
DESCRIPTION:COLLECTE DE VÊTEMENTS\nle vendredi 14 février\, entre 15h et 18h à la Bulle d’R\, Centre Socio Culturel Hauts-Pavés\, 9 rue du trépied. \nUn jardin à la française est une installation-performance collaborative dans l’espace public qui invite les habitants et les associations locales à participer notamment par la mise à disposition de vêtements de récupération. \n 
URL:https://www.lesdupontd.com/event/un-jardin-a-la-francaise-collecte-de-vetements-14-02/
LOCATION:La Bulle d’R\, 9 Rue du trépied\, Nantes\, France
CATEGORIES:Collecte
END:VEVENT
BEGIN:VEVENT
DTSTART;TZID=Europe/Paris:20200129T080000
DTEND;TZID=Europe/Paris:20200129T170000
DTSTAMP:20260425T184504
CREATED:20200129T181622Z
LAST-MODIFIED:20200129T181622Z
UID:721-1580284800-1580317200@www.lesdupontd.com
SUMMARY:Un jardin à la française\, collecte de vêtements 13/02
DESCRIPTION:COLLECTE DE VÊTEMENTS\nle 13 février de 14h à 17h au Martray\,  8 allée Maud MannonI \nUn jardin à la française est une installation-performance collaborative dans l’espace public qui invite les habitants et les associations locales à participer notamment par la mise à disposition de vêtements de récupération.
URL:https://www.lesdupontd.com/event/un-jardin-a-la-francaise-collecte-de-vetements-13-02/
LOCATION:Accueil de loisirs Accoord au Martray\, 8 allée Maud MannonI\, Nantes\, France
CATEGORIES:Collecte
END:VEVENT
BEGIN:VEVENT
DTSTART;VALUE=DATE:20200110
DTEND;VALUE=DATE:20200111
DTSTAMP:20260425T184504
CREATED:20190921T150701Z
LAST-MODIFIED:20190925T080323Z
UID:543-1578614400-1578700799@www.lesdupontd.com
SUMMARY:L.A Danse en Fabrique (Musique et Danse en Loire-Atlantique) 10/01
DESCRIPTION:L.A. Danse en Fabrique (5e édition) est une journée professionnelle organisée par Musique et Danse en Loire-Atlantique et la Ville de Nantes pour renforcer leur mission d’accompagnement et de soutien à la mobilité des compagnies chorégraphiques locales. \nAu programme :\nEntering / Compagnie Nour – Elisa Lécuru\nPoursuites / Petit Huit Collectif – Anaïs Hunnebelle\nLa Méthode C.O.A. / les Dupont/d – Marion Uguen\nMascarade / Association Uncanny – Cedric Cherdel\nLeitmotivs / Collectif Allogène – Elise Lerat\nDédale /Compagnie Bissextile – Stephane Fratti\nOrigami / Au crépuscule du cœur / Compagnie Yvann Alexandre\nDe la Cave au Grenier / Lucane – Aëla Labbé et Stéphane Imbert
URL:https://www.lesdupontd.com/event/l-a-danse-en-fabrique-musique-et-danse-en-loire-atlantique/
LOCATION:Musique et danse en Loire-Atlantique\, 11 Rue Jules Verne\, Orvault\, 44700\, France
CATEGORIES:spectacle
ATTACH;FMTTYPE=image/jpeg:https://www.lesdupontd.com/wp-content/uploads/2019/09/MethodeCOAopt.jpg
END:VEVENT
BEGIN:VEVENT
DTSTART;TZID=Europe/Paris:20191106T203000
DTEND;TZID=Europe/Paris:20191106T220000
DTSTAMP:20260425T184504
CREATED:20190921T145846Z
LAST-MODIFIED:20190925T080506Z
UID:541-1573072200-1573077600@www.lesdupontd.com
SUMMARY:La méthode C.O.A. 06/11
DESCRIPTION:A l’origine de La Méthode C.O.A.\, il y a une nécessité intime\, sociale\, politique : REBONDIR ! Chorégraphe\, danseuse\, performeuse et auteure\, je cherche ma réponse auprès de spécialistes du rebond : les amphibiens. En m’inspirant de mes recherches\, j’élabore une méthode de développement très personnelle visant à révéler la grenouille intérieure de l’individu. \nNouveau Studio Théâtre (5 rue du ballet à Nantes) / Les 5 et 6 novembre / 20h30\nEntrée : 5 euros \nProduction : les Dupont/d\nCoproductions : Le Vaisseau\, fabrique artistique au Centre de réadaptation de Coubert/Les Journées Danse Dense\, Pantin/Nouveau Studio Théâtre\, Nantes\nAccompagnement production : Bora Bora Productions\nAides au projet : DRAC Pays de la Loire / la Ville de Nantes\nMises à disposition : Honolulu\, Nantes ; Lolab\, Nantes ; CCN Le Phare\, Le Havre ; Théâtre du fil de l’eau\, Pantin ; Danse à tous les étages\, Rennes
URL:https://www.lesdupontd.com/event/la-methode-c-o-a-2/
LOCATION:Nouveau Studio Théâtre\, 5 Rue du ballet\, Nantes\, France
CATEGORIES:spectacle
ATTACH;FMTTYPE=image/jpeg:https://www.lesdupontd.com/wp-content/uploads/2019/09/MethodeCOAopt.jpg
END:VEVENT
BEGIN:VEVENT
DTSTART;TZID=Europe/Paris:20191105T203000
DTEND;TZID=Europe/Paris:20191105T220000
DTSTAMP:20260425T184504
CREATED:20190921T145536Z
LAST-MODIFIED:20190925T080530Z
UID:538-1572985800-1572991200@www.lesdupontd.com
SUMMARY:La méthode C.O.A. 05/11
DESCRIPTION:A l’origine de La Méthode C.O.A.\, il y a une nécessité intime\, sociale\, politique : REBONDIR ! Chorégraphe\, danseuse\, performeuse et auteure\, je cherche ma réponse auprès de spécialistes du rebond : les amphibiens. En m’inspirant de mes recherches\, j’élabore une méthode de développement très personnelle visant à révéler la grenouille intérieure de l’individu. \nNouveau Studio Théâtre (5 rue du ballet à Nantes) / Les 5 et 6 novembre / 20h30\nEntrée : 5 euros \nProduction : les Dupont/d\nCoproductions : Le Vaisseau\, fabrique artistique au Centre de réadaptation de Coubert/Les Journées Danse Dense\, Pantin/Nouveau Studio Théâtre\, Nantes\nAccompagnement production : Bora Bora Productions\nAides au projet : DRAC Pays de la Loire / la Ville de Nantes\nMises à disposition : Honolulu\, Nantes ; Lolab\, Nantes ; CCN Le Phare\, Le Havre ; Théâtre du fil de l’eau\, Pantin ; Danse à tous les étages\, Rennes
URL:https://www.lesdupontd.com/event/la-methode-c-o-a/
LOCATION:Nouveau Studio Théâtre\, 5 Rue du ballet\, Nantes\, France
CATEGORIES:spectacle
ATTACH;FMTTYPE=image/jpeg:https://www.lesdupontd.com/wp-content/uploads/2019/09/MethodeCOAopt.jpg
END:VEVENT
BEGIN:VEVENT
DTSTART;TZID=Europe/Paris:20191105T190000
DTEND;TZID=Europe/Paris:20191105T200000
DTSTAMP:20260425T184504
CREATED:20191023T171307Z
LAST-MODIFIED:20191023T171307Z
UID:644-1572980400-1572984000@www.lesdupontd.com
SUMMARY:Collecte de vêtements
DESCRIPTION:COLLECTE DE VÊTEMENTS\nLes 5 et 6 novembre au Nouveau Studio Théâtre en amont des représentations de la Méthode C.O.A. \nLes vêtements collectés seront redistribués à des associations caritatives à l’issue du projet !\nPour plus d’infos : lesdupontd@live.fr
URL:https://www.lesdupontd.com/event/collecte-de-vetements-2/
LOCATION:Nouveau Studio Théâtre\, 5 Rue du ballet\, Nantes\, France
CATEGORIES:Collecte
ATTACH;FMTTYPE=image/jpeg:https://www.lesdupontd.com/wp-content/uploads/2019/10/jdf-culottes-basse-def.jpeg
END:VEVENT
BEGIN:VEVENT
DTSTART;TZID=Europe/Paris:20191030T180000
DTEND;TZID=Europe/Paris:20191030T200000
DTSTAMP:20260425T184504
CREATED:20191023T172201Z
LAST-MODIFIED:20191023T172201Z
UID:647-1572458400-1572465600@www.lesdupontd.com
SUMMARY:Apéro Rencontre 30/10
DESCRIPTION:Appel à participation :\nUn jardin à la française de Marion Uguen \nAPÉRO RENCONTRE LE MERCREDI 30 Octobre à 18h\nquartier Hauts Pavés-St Félix à Nantes\nSur inscription : lesdupontd@live.fr \n 
URL:https://www.lesdupontd.com/event/apero-rencontre-30-10/
LOCATION:Quartier Hauts Pavés – St Félix\, Nantes\, France
CATEGORIES:Collecte
ATTACH;FMTTYPE=image/png:https://www.lesdupontd.com/wp-content/uploads/2019/10/AperoRencontre-UJALF30102019.png
END:VEVENT
BEGIN:VEVENT
DTSTART;VALUE=DATE:20190928
DTEND;VALUE=DATE:20190929
DTSTAMP:20260425T184504
CREATED:20190921T144822Z
LAST-MODIFIED:20190925T080559Z
UID:536-1569628800-1569715199@www.lesdupontd.com
SUMMARY:Un jardin à la française\, collecte de vêtements 28/09
DESCRIPTION:Un jardin à la française\, collecte de vêtements à Nantes\n21 septembre place de Bretagne (journée citoyenne de la propreté)\n22 septembre île de Versailles (un dimanche au bord de l’eau)\n28 septembre\, festival d’à côté place Viarme. \nPour plus d’infos n’hésitez pas à nous contacter !\nhttp://www.lesdupontd.com/contact/
URL:https://www.lesdupontd.com/event/un-jardin-a-la-francaise-collecte-de-vetements-3/
LOCATION:Place Viarme\, Nantes\, France
CATEGORIES:Collecte
ATTACH;FMTTYPE=image/jpeg:https://www.lesdupontd.com/wp-content/uploads/2016/01/jardin-capitole-gens-capitoles-copie.jpg
END:VEVENT
BEGIN:VEVENT
DTSTART;VALUE=DATE:20190922
DTEND;VALUE=DATE:20190923
DTSTAMP:20260425T184504
CREATED:20190921T144627Z
LAST-MODIFIED:20190925T080640Z
UID:534-1569110400-1569196799@www.lesdupontd.com
SUMMARY:Un jardin à la française\, collecte de vêtements 22/09
DESCRIPTION:Un jardin à la française\, collecte de vêtements à Nantes\n21 septembre place de Bretagne (journée citoyenne de la propreté)\n22 septembre île de Versailles (un dimanche au bord de l’eau)\n28 septembre\, festival d’à côté place viarme. Pour plus d’infos n’hésitez pas à nous contacter !\nhttp://www.lesdupontd.com/contact/
URL:https://www.lesdupontd.com/event/un-jardin-a-la-francaise-collecte-de-vetements-2/
LOCATION:Île de Versailles\, Nantes\, France
CATEGORIES:Collecte
ATTACH;FMTTYPE=image/jpeg:https://www.lesdupontd.com/wp-content/uploads/2016/01/jardin-capitole-gens-capitoles-copie.jpg
END:VEVENT
BEGIN:VEVENT
DTSTART;VALUE=DATE:20190921
DTEND;VALUE=DATE:20190922
DTSTAMP:20260425T184504
CREATED:20190921T142842Z
LAST-MODIFIED:20190925T080703Z
UID:528-1569024000-1569110399@www.lesdupontd.com
SUMMARY:Un jardin à la française\, collecte de vêtements 21/09
DESCRIPTION:Un jardin à la française\, collecte de vêtements à Nantes\n21 septembre place de Bretagne (journée citoyenne de la propreté)\n22 septembre île de Versailles (un dimanche au bord de l’eau)\n28 septembre\, festival d’à côté place viarme. Pour plus d’infos n’hésitez pas à nous contacter !\nhttp://www.lesdupontd.com/contact/
URL:https://www.lesdupontd.com/event/un-jardin-a-la-francaise-collecte-de-vetements/
LOCATION:Extérieur\, Place de Bretagne\, Nantes\, France
CATEGORIES:Collecte
ATTACH;FMTTYPE=image/jpeg:https://www.lesdupontd.com/wp-content/uploads/2016/01/jardin-capitole-gens-capitoles-copie.jpg
END:VEVENT
BEGIN:VEVENT
DTSTART;VALUE=DATE:20190914
DTEND;VALUE=DATE:20190915
DTSTAMP:20260425T184504
CREATED:20190921T153209Z
LAST-MODIFIED:20190925T080744Z
UID:555-1568419200-1568505599@www.lesdupontd.com
SUMMARY:L'enfant phare 14/09
DESCRIPTION:L’enfant phare est un récit initiatique. Adulte ou enfant chacun y trouve son conte. Du baume au cœur\, beau mot cœur\, beau moqueur\, l’enfant phare fait des boucles et rond et rond petits pas tapant le rythme de ce chant. En route\, suivons l’odyssée de l’enfant assoiffé de vie à la recherche de l’eau\, de l’autre.\nSac sur le dos\, Marion Uguen conte sa danse\, transforme les objets du quotidien en paysages sonores et visuels; un thermos faisant office de phare\, d’instrument de percussion ou de longue vue\, des cartes routières devenant montagnes…\nInvitation au voyage\, L’enfant phare explore les potentialités musicales de la langue et du geste\, générant un récit hypnotique fait de méandres et de bifurcations\, peuplé de sirènes\, de videurs de boîte de nuit et autres réjouissances. \nVersion concert interprétée par Marion Uguen et Renaud Aubin.\nFestival Mais Yes ! (38 rue Breil à Nantes) / 14 septembre 2019 / 17h55 et 20h30\nEntrée libre. \nConception/interprétation : Marion Uguen\nLumières : Léandre Garcia Lamolla\nCoproductions: Chorège/Relais Culturel Régional du Pays de Falaise\, le réseau des Petites Scènes Ouvertes\, Pantin\, Le Vaisseau/lieu de création artistique au centre de réadaptation de Coubert\nAides : Aide au projet de la DRAC Ile-de-France/Aide à l’écriture Danse et aide à la production de l’association Beaumarchais-SACD\, aide à l’écriture Le Phare/CCN du Havre Haute Normandie\nMises à dispositions : Le Gymnase/CDC\, Roubaix/Les Éclats-Pôle régional de développement pour la culture chorégraphique en Poitou Charente\nAccompagnement : Les Journées Danse Dense\, Pantin/L’Etoile du Nord\, Paris/Mains d’Oeuvres\, Saint-Ouen
URL:https://www.lesdupontd.com/event/lenfant-phare/
LOCATION:Festival Mais YES!\, 38 Rue Breil\, Nantes\, France
CATEGORIES:spectacle
ATTACH;FMTTYPE=image/jpeg:https://www.lesdupontd.com/wp-content/uploads/2016/01/enfant-phare-point-ephemere-2-copie.jpg
END:VEVENT
END:VCALENDAR